BEGIN:VCALENDAR
VERSION:2.0
PRODID:-//Essex on Lake Champlain - ECPv6.15.18//NONSGML v1.0//EN
CALSCALE:GREGORIAN
METHOD:PUBLISH
X-WR-CALNAME:Essex on Lake Champlain
X-ORIGINAL-URL:https://www.essexny.us
X-WR-CALDESC:Events for Essex on Lake Champlain
REFRESH-INTERVAL;VALUE=DURATION:PT1H
X-Robots-Tag:noindex
X-PUBLISHED-TTL:PT1H
BEGIN:VTIMEZONE
TZID:America/New_York
BEGIN:DAYLIGHT
TZOFFSETFROM:-0500
TZOFFSETTO:-0400
TZNAME:EDT
DTSTART:20250309T070000
END:DAYLIGHT
BEGIN:STANDARD
TZOFFSETFROM:-0400
TZOFFSETTO:-0500
TZNAME:EST
DTSTART:20251102T060000
END:STANDARD
BEGIN:DAYLIGHT
TZOFFSETFROM:-0500
TZOFFSETTO:-0400
TZNAME:EDT
DTSTART:20260308T070000
END:DAYLIGHT
BEGIN:STANDARD
TZOFFSETFROM:-0400
TZOFFSETTO:-0500
TZNAME:EST
DTSTART:20261101T060000
END:STANDARD
BEGIN:DAYLIGHT
TZOFFSETFROM:-0500
TZOFFSETTO:-0400
TZNAME:EDT
DTSTART:20270314T070000
END:DAYLIGHT
BEGIN:STANDARD
TZOFFSETFROM:-0400
TZOFFSETTO:-0500
TZNAME:EST
DTSTART:20271107T060000
END:STANDARD
END:VTIMEZONE
BEGIN:VEVENT
DTSTART;TZID=America/New_York:20260408T190000
DTEND;TZID=America/New_York:20260408T210000
DTSTAMP:20260423T115908
CREATED:20260310T193057Z
LAST-MODIFIED:20260310T193101Z
UID:10038407-1775674800-1775682000@www.essexny.us
SUMMARY:CONTRADANCE FUNDRAISER FOR JEMS
DESCRIPTION:Come and join in the fun of Contradance with regional favorites\, Adirondack Two-Step and Caller\, Jeremy Clifford!  You’ll be enjoying a fun night of community\, friendship\, laughs\, and music – all while helping the Jay Entertainment & Music Society (JEMS) fund needed theater repairs!   \nPlease note we are NOT at the Amos & Julia Ward Theater for this event\, but at the lovely and spacious Jay Community Center.  We hope to be up and running at the theater in May.   \nSuggested donation: $10\, or whatever-sized donation you can make to help our theater re-open. We thank the band and Jeremy for graciously offering their talents for this fundraiser.  Thank you! \nCare to share?\n				Share on Facebook (Opens in new window)\n				Facebook\n			\n				Share on Pinterest (Opens in new window)\n				Pinterest\n			\n				Share on X (Opens in new window)\n				X\n			More\n				Email a link to a friend (Opens in new window)\n				Email\n			\n				Print (Opens in new window)\n				Print\n			\n				Share on LinkedIn (Opens in new window)\n				LinkedIn\n			\n				Share on Tumblr (Opens in new window)\n				Tumblr\n			\n				Share on Reddit (Opens in new window)\n				Reddit
URL:https://www.essexny.us/events/contradance-fundraiser-for-jems/
LOCATION:Town of Jay Community Center\, 11 School Lane\, AuSable Forks\, 12912\, United States
CATEGORIES:Music
ATTACH;FMTTYPE=image/png:https://www.essexny.us/wp-content/uploads/2026/03/IMG_2942.png
ORGANIZER;CN="Jay Entertainment &amp%3B Music Society (JEMS)":MAILTO:Dawntonneau@gmail.com
END:VEVENT
BEGIN:VEVENT
DTSTART;TZID=America/New_York:20260417T190000
DTEND;TZID=America/New_York:20260417T203000
DTSTAMP:20260423T115908
CREATED:20260403T211245Z
LAST-MODIFIED:20260403T211249Z
UID:10038420-1776452400-1776457800@www.essexny.us
SUMMARY:Pleasant Valley Chorale Essex Spring Concert
DESCRIPTION:The Pleasant Valley Chorale spring program “Love Songs” features choral pieces about the heartache\, comfort\, and delight of love. Directed by Nora Nadire with Accompanist Kerry Mero. Admission is free. Donations accepted at the door. \nJoin us at either (or both!) of two concerts: \nFriday\, April 17 ~ 7:00 PM \nEssex Community Church \n2306 Lakeshore Road\, Essex  \nSunday\, April 19 ~ 3:00 PM \nUnited Church of Christ \n7580 Court St\, Elizabethtown \nThe Pleasant Valley Chorale is a long-running community choir sponsored by the Elizabethtown Social Center. If you are interested in joining for the fall session\, please contact the Social Center at (518) 873-6408. \nCare to share?\n				Share on Facebook (Opens in new window)\n				Facebook\n			\n				Share on Pinterest (Opens in new window)\n				Pinterest\n			\n				Share on X (Opens in new window)\n				X\n			More\n				Email a link to a friend (Opens in new window)\n				Email\n			\n				Print (Opens in new window)\n				Print\n			\n				Share on LinkedIn (Opens in new window)\n				LinkedIn\n			\n				Share on Tumblr (Opens in new window)\n				Tumblr\n			\n				Share on Reddit (Opens in new window)\n				Reddit
URL:https://www.essexny.us/events/pleasant-valley-chorale-essex-spring-concert/
LOCATION:Essex Community Church\, 2306 Main Street\, Essex\, NY\, 12936\, United States
CATEGORIES:Music
ATTACH;FMTTYPE=image/jpeg:https://www.essexny.us/wp-content/uploads/2026/04/IMG_8658-5-scaled.jpg
ORGANIZER;CN="The Elizabethtown Social Center":MAILTO:news@elizabethtownsocialcenter.org
GEO:44.309356;-73.351156
X-APPLE-STRUCTURED-LOCATION;VALUE=URI;X-ADDRESS=Essex Community Church 2306 Main Street Essex NY 12936 United States;X-APPLE-RADIUS=500;X-TITLE=2306 Main Street:geo:-73.351156,44.309356
END:VEVENT
BEGIN:VEVENT
DTSTART;TZID=America/New_York:20260419T150000
DTEND;TZID=America/New_York:20260419T163000
DTSTAMP:20260423T115908
CREATED:20260403T211215Z
LAST-MODIFIED:20260403T211219Z
UID:10038419-1776610800-1776616200@www.essexny.us
SUMMARY:Pleasant Valley Chorale Etown Spring Concert
DESCRIPTION:The Pleasant Valley Chorale spring program “Love Songs” features choral pieces about the heartache\, comfort\, and delight of love. Directed by Nora Nadire with Accompanist Kerry Mero. Admission is free. Donations accepted at the door. \nJoin us at either (or both!) of two concerts: \nFriday\, April 17 ~ 7:00 PM \nEssex Community Church \n2306 Lakeshore Road\, Essex \nSunday\, April 19 ~ 3:00 PM \nUnited Church of Christ \n7580 Court St\, Elizabethtown \nThe Pleasant Valley Chorale is a long-running community choir sponsored by the Elizabethtown Social Center. If you are interested in joining for the fall session\, please contact the Social Center at (518) 873-6408. \n\n\n\nCare to share?\n				Share on Facebook (Opens in new window)\n				Facebook\n			\n				Share on Pinterest (Opens in new window)\n				Pinterest\n			\n				Share on X (Opens in new window)\n				X\n			More\n				Email a link to a friend (Opens in new window)\n				Email\n			\n				Print (Opens in new window)\n				Print\n			\n				Share on LinkedIn (Opens in new window)\n				LinkedIn\n			\n				Share on Tumblr (Opens in new window)\n				Tumblr\n			\n				Share on Reddit (Opens in new window)\n				Reddit
URL:https://www.essexny.us/events/pleasant-valley-chorale-etown-spring-concert/
LOCATION:United Church of Christ in Elizabethtown\, Elizabethtown\, United States
CATEGORIES:Music
ATTACH;FMTTYPE=image/jpeg:https://www.essexny.us/wp-content/uploads/2026/04/IMG_8658-4-scaled.jpg
ORGANIZER;CN="The Elizabethtown Social Center":MAILTO:news@elizabethtownsocialcenter.org
GEO:37.7030646;-85.8649408
END:VEVENT
BEGIN:VEVENT
DTSTART;TZID=America/New_York:20260423T190000
DTEND;TZID=America/New_York:20260423T200000
DTSTAMP:20260423T115908
CREATED:20260421T223827Z
LAST-MODIFIED:20260421T224208Z
UID:10038469-1776970800-1776974400@www.essexny.us
SUMMARY:The Mill Local Spotlight: William Lee Ellis
DESCRIPTION:Acclaimed roots music artist William Lee Ellis is a fingerpicking guitarist and songwriter who has been hailed a “wizard on steel strings” (Blues Revue) and “one of our finest contemporary songwriters” (Living Blues).\n\n\n\n\n\n\n\n\nHis latest album\, the Yellow Dog release Ghost Hymns\, was a Blues Music Awards nominee for Acoustic Blues Album of the Year and proclaimed one of 2023’s best records by DownBeat\,Blues Music magazine\, and others. The son of banjo/fiddle composer Tony Ellis\, William holds a PhD in ethnomusicology\, has played Mountain Stage\, MerleFest\, and the Kennedy Center among many venues\, and is a guitar-instructing alum of Jorma Kaukonen’s Fur Peace Ranch and Augusta Blues Week. \nWilliam Lee Ellis will join us for a three week residency at The Mill: Thursday April 9th\, April 16th and April 23rd. He will be accompanied by Steve Feinbloom (bass) & Ralph Lane (guitar). \n\n\n\n\n\n\n\n\n\nCare to share?\n				Share on Facebook (Opens in new window)\n				Facebook\n			\n				Share on Pinterest (Opens in new window)\n				Pinterest\n			\n				Share on X (Opens in new window)\n				X\n			More\n				Email a link to a friend (Opens in new window)\n				Email\n			\n				Print (Opens in new window)\n				Print\n			\n				Share on LinkedIn (Opens in new window)\n				LinkedIn\n			\n				Share on Tumblr (Opens in new window)\n				Tumblr\n			\n				Share on Reddit (Opens in new window)\n				Reddit
URL:https://www.essexny.us/events/local-spotlight-william-lee-ellis/
LOCATION:The Mill\, 6679 Main Street\, Westport\, New York\, 12993\, United States
CATEGORIES:Music
ATTACH;FMTTYPE=image/jpeg:https://www.essexny.us/wp-content/uploads/2026/04/WLE-Hi-Res-Photo-by-Jerry-Swope-scaled-1.jpeg
END:VEVENT
BEGIN:VEVENT
DTSTART;TZID=America/New_York:20260503T163000
DTEND;TZID=America/New_York:20260503T190000
DTSTAMP:20260423T115908
CREATED:20260421T224137Z
LAST-MODIFIED:20260421T224142Z
UID:10038423-1777825800-1777834800@www.essexny.us
SUMMARY:Heritage Potluck at Elizabethtown Social Center
DESCRIPTION:From Family Recipes to Funky Favorites: Community Potluck Celebrates Food and History at the Elizabethtown Social Center with Live Music by Russ Cook.  \nWe invite you to gather for a delightfully unpredictable mix of food\, great live music and a bit of storytelling at our Community Potluck on Sunday\, May 3\, from 4:30 to 7PM at the Elizabethtown Social Center. Dinner at 5. \nGuests are encouraged to bring a small dish that tells a story – a favorite childhood meal\, a cherished family dish\, a reflection of cultural heritage or a recipe from history.  \nAlongside the food and music\, there will be activities to keep all ages happy\, including pool\, foosball\, crafts and more! \nPlease contact us at 518-873-6408 or news@elizabethtownsocialcenter.org with any questions! \nCare to share?\n				Share on Facebook (Opens in new window)\n				Facebook\n			\n				Share on Pinterest (Opens in new window)\n				Pinterest\n			\n				Share on X (Opens in new window)\n				X\n			More\n				Email a link to a friend (Opens in new window)\n				Email\n			\n				Print (Opens in new window)\n				Print\n			\n				Share on LinkedIn (Opens in new window)\n				LinkedIn\n			\n				Share on Tumblr (Opens in new window)\n				Tumblr\n			\n				Share on Reddit (Opens in new window)\n				Reddit
URL:https://www.essexny.us/events/heritage-potluck-at-elizabethtown-social-center/
LOCATION:The Elizabethtown Social Center\, 7626 US-9\, Elizabethtown\, NY\, 12932\, United States
CATEGORIES:Dining,Heritage,Music
ATTACH;FMTTYPE=image/png:https://www.essexny.us/wp-content/uploads/2026/04/heritage.png
ORGANIZER;CN="The Elizabethtown Social Center":MAILTO:news@elizabethtownsocialcenter.org
END:VEVENT
BEGIN:VEVENT
DTSTART;TZID=America/New_York:20260516T200000
DTEND;TZID=America/New_York:20260516T213000
DTSTAMP:20260423T115908
CREATED:20260421T223906Z
LAST-MODIFIED:20260421T223910Z
UID:10038471-1778961600-1778967000@www.essexny.us
SUMMARY:The Mill Presents: Rebecca Foon
DESCRIPTION:After a sold out performance with Richard Reed Parry and Sarah Neufeld last fall\, Montreal/NYC-based cellist and composer Rebecca Foon returns to The Mill on May 16th to present new music from her most recent album\, Black Butterflies. Foon’s album blends post-rock\, modern classical\, and ambient elements into deeply immersive soundscapes that radiate both intimacy and strength. Foon will perform the album live with her band\, featuring her sister Aliayta Foon-Dancoes {violin) and Gladstone Deluxe (electronics & percussion)\, bringing the record’s layered\, cinematic world to the stage.\n\n\n\n\nCare to share?\n				Share on Facebook (Opens in new window)\n				Facebook\n			\n				Share on Pinterest (Opens in new window)\n				Pinterest\n			\n				Share on X (Opens in new window)\n				X\n			More\n				Email a link to a friend (Opens in new window)\n				Email\n			\n				Print (Opens in new window)\n				Print\n			\n				Share on LinkedIn (Opens in new window)\n				LinkedIn\n			\n				Share on Tumblr (Opens in new window)\n				Tumblr\n			\n				Share on Reddit (Opens in new window)\n				Reddit
URL:https://www.essexny.us/events/the-mill-presents-rebecca-foon/
LOCATION:The Mill\, 6679 Main Street\, Westport\, New York\, 12993\, United States
CATEGORIES:Music
ATTACH;FMTTYPE=image/jpeg:https://www.essexny.us/wp-content/uploads/2026/04/rebeccafoon_2025upscale.jpeg
END:VEVENT
END:VCALENDAR